Workbook

Sheet HPP (Januari)
A1: Produk | B1: Kos Bahan Baku | C1: Kos Tenaga Kerja Langsung | D1: Kos Overhead | E1: HPP | F1: Harga Jual
A3: Espresso | B3: ='Bahan Baku Per Unit'!F4 -> 3811.5789 | C3: 1060 | D3: ='BTKL, FOH, VOH'!$J$20 -> 4217.2387 | E3: =B3+C3+D3 -> 9088.8177 | F3: 8000
A4: Americano | B4: ='Bahan Baku Per Unit'!F9 -> 3811.5789 | C4: 1060 | D4: ='BTKL, FOH, VOH'!$J$20 -> 4217.2387 | E4: =B4+C4+D4 -> 9088.8177 | F4: 10000
A5: V60 | B5: ='Bahan Baku Per Unit'!F14 -> 4381.5789 | C5: 1060 | D5: ='BTKL, FOH, VOH'!$J$20 -> 4217.2387 | E5: =B5+C5+D5 -> 9658.8177 | F5: 15000
A6: Kopi Lucu | B6: ='Bahan Baku Per Unit'!F19 -> 10096.614 | C6: 1060 | D6: ='BTKL, FOH, VOH'!$J$20 -> 4217.2387 | E6: =B6+C6+D6 -> 15373.853 | F6: 15000
A7: Kopi Jadoel | B7: ='Bahan Baku Per Unit'!F28 -> 7913.765 | C7: 1060 | D7: ='BTKL, FOH, VOH'!$J$20 -> 4217.2387 | E7: =B7+C7+D7 -> 13191.004 | F7: 12000
A8: Sanger | B8: ='Bahan Baku Per Unit'!F36 -> 6253.5789 | C8: 1060 | D8: ='BTKL, FOH, VOH'!$J$20 -> 4217.2387 | E8: =B8+C8+D8 -> 11530.818 | F8: 10000
A9: Latte | B9: ='Bahan Baku Per Unit'!F49 -> 8853.8507 | C9: 1060 | D9: ='BTKL, FOH, VOH'!$J$20 -> 4217.2387 | E9: =B9+C9+D9 -> 14131.089 | F9: 15000
A10: Kopi Caramel | B10: ='Bahan Baku Per Unit'!F57 -> 13266.835 | C10: 1060 | D10: ='BTKL, FOH, VOH'!$J$20 -> 4217.2387 | E10: =B10+C10+D10 -> 18544.074 | F10: 20000
A11: Kopi Coklat | B11: ='Bahan Baku Per Unit'!F67 -> 11126.265 | C11: 1060 | D11: ='BTKL, FOH, VOH'!$J$20 -> 4217.2387 | E11: =B11+C11+D11 -> 16403.504 | F11: 18000
A12: Kopi Tiramisu | B12: ='Bahan Baku Per Unit'!F76 -> 11800.169 | C12: 1060 | D12: ='BTKL, FOH, VOH'!$J$20 -> 4217.2387 | E12: =B12+C12+D12 -> 17077.407 | F12: 20000
A13: Matcha Kopi | B13: ='Bahan Baku Per Unit'!F86 -> 13758.502 | C13: 1060 | D13: ='BTKL, FOH, VOH'!$J$20 -> 4217.2387 | E13: =B13+C13+D13 -> 19035.741 | F13: 22000
A14: Taro | B14: ='Bahan Baku Per Unit'!F117 -> 8033.765 | C14: 1060 | D14: ='BTKL, FOH, VOH'!$J$20 -> 4217.2387 | E14: =B14+C14+D14 -> 13311.004 | F14: 12000
A15: Red Velvet | B15: ='Bahan Baku Per Unit'!F133 -> 8190.015 | C15: 1060 | D15: ='BTKL, FOH, VOH'!$J$20 -> 4217.2387 | E15: =B15+C15+D15 -> 13467.254 | F15: 12000
A16: Matcha | B16: ='Bahan Baku Per Unit'!F141 -> 11028.502 | C16: 1060 | D16: ='BTKL, FOH, VOH'!$J$20 -> 4217.2387 | E16: =B16+C16+D16 -> 16305.741 | F16: 15000
A17: Green Tea | B17: ='Bahan Baku Per Unit'!F178 -> 8398.5018 | C17: 1060 | D17: ='BTKL, FOH, VOH'!$J$20 -> 4217.2387 | E17: =B17+C17+D17 -> 13675.741 | F17: 10000
A18: Kopi Green Tea | B18: ='Bahan Baku Per Unit'!F187 -> 10960.502 | C18: 1060 | D18: ='BTKL, FOH, VOH'!$J$20 -> 4217.2387 | E18: =B18+C18+D18 -> 16237.741 | F18: 16000
A19: Thai Tea | B19: ='Bahan Baku Per Unit'!F197 -> 6215.765 | C19: 1060 | D19: ='BTKL, FOH, VOH'!$J$20 -> 4217.2387 | E19: =B19+C19+D19 -> 11493.004 | F19: 10000
A20: Lemon Tea | B20: ='Bahan Baku Per Unit'!F205 -> 4544.9123 | C20: 1060 | D20: ='BTKL, FOH, VOH'!$J$20 -> 4217.2387 | E20: =B20+C20+D20 -> 9822.151 | F20: 8000
A21: Teh Manis | B21: ='Bahan Baku Per Unit'!F212 -> 2204.9123 | C21: 1060 | D21: ='BTKL, FOH, VOH'!$J$20 -> 4217.2387 | E21: =B21+C21+D21 -> 7482.151 | F21: 5000
A22: Tea Tong | B22: ='Bahan Baku Per Unit'!F218 -> 1664.9123 | C22: 1060 | D22: ='BTKL, FOH, VOH'!$J$20 -> 4217.2387 | E22: =B22+C22+D22 -> 6942.151 | F22: 3000
A23: Coklat | B23: ='Bahan Baku Per Unit'!F223 -> 9923.0018 | C23: 1060 | D23: ='BTKL, FOH, VOH'!$J$20 -> 4217.2387 | E23: =B23+C23+D23 -> 15200.241 | F23: 15000
A24: Hazelnut | B24: ='Bahan Baku Per Unit'!F232 -> 10143.835 | C24: 1060 | D24: ='BTKL, FOH, VOH'!$J$20 -> 4217.2387 | E24: =B24+C24+D24 -> 15421.074 | F24: 15000
A25: Green Lime | B25: ='Bahan Baku Per Unit'!F241 -> 5741.5789 | C25: 1060 | D25: ='BTKL, FOH, VOH'!$J$20 -> 4217.2387 | E25: =B25+C25+D25 -> 11018.818 | F25: 8000
A26: Americano Peach | B26: 0 | C26: 1060 | D26: ='BTKL, FOH, VOH'!$J$20 -> 4217.2387 | E26: =B26+C26+D26 -> 5277.2387 | F26: 15000
A27: Caramel Macciato | B27: 0 | C27: 1060 | D27: ='BTKL, FOH, VOH'!$J$20 -> 4217.2387 | E27: =B27+C27+D27 -> 5277.2387 | F27: 20000
A28: Green Tea tanpa susu | B28: 0 | C28: 1060 | D28: ='BTKL, FOH, VOH'!$J$20 -> 4217.2387 | E28: =B28+C28+D28 -> 5277.2387 | F28: 5000
A29: Peace Tea | B29: 0 | C29: 1060 | D29: ='BTKL, FOH, VOH'!$J$20 -> 4217.2387 | E29: =B29+C29+D29 -> 5277.2387 | F29: 12000
A30: Lychee Tea | B30: 0 | C30: 1060 | D30: ='BTKL, FOH, VOH'!$J$20 -> 4217.2387 | E30: =B30+C30+D30 -> 5277.2387 | F30: 12000

Sheet Daftar Harga Bahan Baku
A1: Daftar Harga Bahan Baku
A3: Bahan Baku | B3: Harga/Unit | C3: ISI | D3: SATUAN | E3: HARGA SATUAN (Rp)
A4: Kopi Robusta | B4: 140 | C4: 1000 | D4: Gr | E4: =B4*C4 -> 140000
A5: Kopi Arabika | B5: 200 | C5: 1000 | D5: Gr | E5: =B5*C5 -> 200000
A6: Kopi Blended (70+30) | B6: 182 | C6: 1000 | D6: Gr | E6: =B6*C6 -> 182000
A7: Kopi Wine | B7: 270 | C7: 1000 | D7: gr | E7: =B7*C7 -> 270000
A8: Kopi Natural | B8: 220 | C8: 1000 | D8: Gr | E8: =B8*C8 -> 220000
A9: Susu SKM | B9: 22.5 | C9: 10000 | D9: ml | E9: =B9*C9 -> 225000
A10: UHT | B10: 17.44186 | C10: 946 | D10: ml | E10: =B10*C10 -> 16500
A11: Creamer | B11: 84 | C11: 500 | D11: Gr | E11: =B11*C11 -> 42000
A12: Evavorasi | B12: 44.736842 | C12: 380 | D12: ml | E12: =B12*C12 -> 17000
A13: Coklat | B13: 187.5 | C13: 800 | D13: Gr | E13: =B13*C13 -> 150000
A14: Taro | B14: 150 | C14: 800 | D14: Gr | E14: =B14*C14 -> 120000
A15: Tiramisu | B15: 146.66667 | C15: 750 | D15: ml | E15: =B15*C15 -> 110000
... A27: Peach | B27: 146.66667 | C27: 750 | D27: ml | E27: =B27*C27 -> 110000
A28: Air | B28: 0.31578947 | C28: 19 | D28: L | E28: =B28*1000*C28 -> 6000
A29: Es batu | B29: 1000 | C29: 144 | D29: buah | E29: =B29*C29 -> 144000
A30: Cup Kertas+tutup | B30: 700 | C30: 100 | D30: pcs | E30: =B30*C30 -> 70000
A31: Cup Pet 14 oz | B31: 800 | C31: 1000 | D31: pcs | E31: =B31*C31 -> 800000

Sheet Daftar bahan Baku per Unit
A1: Daftar Bahan baku | B1: Espresso | C1: Americano | D1: V60 | E1: Kopi Lucu | F1: Kopi Jadoel | G1: Sanger | H1: Vietnam Drip | I1: Latte | J1: Kopi Caramel | K1: Kopi Coklat | L1: Kopi Tiramisu | M1: Matcha Kopi | N1: Matcha Kopi Caramel | O1: Kopi Hazelnut | P1: Taro | Q1: Tiramisu | R1: Red Velvet | S1: Matha | T1: Kopi Karamel | U1: Matcha Caramel | V1: Caramel Latte | W1: Green Tea | X1: Kopi Green Tea | Y1: Thai Tea | Z1: Lemon Tea | AA1: Teh Manis | AB1: Teh Tong | AC1: Coklat | AD1: Hazelnut | AE1: Green Lime
A2: Kopi Robusta
A3: Kopi Arabika
A4: Kopi Blended (70+30) | B4: 15 | C4: 15 | E4: 15 | F4: 15 | G4: 15 | H4: 15 | I4: 15 | J4: 15 | K4: 15 | L4: 15 | M4: 15 | N4: 15 | O4: 15 | T4: 15 | X4: 15
A5: Kopi Wine
A6: Kopi Natural | D6: 15
A7: Susu SKM | E7: 15 | F7: 60 | G7: 60 | H7: 60 | J7: 30 | K7: 30 | L7: 30 | M7: 30 | N7: 30 | O7: 20 | P7: 20 | Q7: 20 | R7: 20 | S7: 30 | U7: 30 | V7: 30 | W7: 60 | X7: 60 | Y7: 60 | AC7: 30 | AD7: 20
A8: UHT | E8: 180 | F8: 100 | I8: 180 | J8: 100 | K8: 100 | L8: 100 | M8: 100 | N8: 100 | O8: 100 | P8: 100 | Q8: 100 | R8: 100 | S8: 100 | T8: 100 | U8: 100 | V8: 100 | W8: 100 | X8: 100 | Y8: 100 | AC8: 100 | AD8: 100
A9: Creamer | E9: 12 | F9: 12 | G9: 13 | I9: 12 | J9: 12 | K9: 12 | L9: 12 | M9: 12 | N9: 12 | O9: 12 | P9: 12 | Q9: 12 | R9: 12 | S9: 12 | T9: 12 | U9: 12 | V9: 12 | W9: 12 | X9: 10 | Y9: 10 | AC9: 10 | AD9: 10
A10: Evavorasi | I10: 20 | J10: 20 | L10: 20 | M10: 20 | N10: 20 | O10: 20 | S10: 20 | T10: 20 | U10: 20 | V10: 20 | W10: 20 | X10: 20 | AC10: 20 | AD10: 20
A11: Coklat | K11: 25 | AC11: 25
A12: Taro | P12: 25
A13: Tiramisu | L13: 25 | Q13: 35
A14: Matcha | M14: 25 | N14: 30 | S14: 25 | U14: 25
A15: Red Velvet | R15: 25
A16: Hazelnut | O16: 35 | AD16: 35
A17: Caramel | J17: 35 | N17: 25 | T17: 35 | U17: 35 | V17: 35
A18: Green Tea | W18: 8 | X18: 8 | AE18: 8
A19: Thai Tea | Y19: 8
A20: Lemon | Z20: 18 | AE20: 18
A21: Gula | Z21: 30 | AA21: 30
A22: Gula merah | E22: 60
A23: Teh | Z23: 2 | AA23: 2 | AB23: 2
A24: Lychee
A25: Peach
A26: Air | B26: 100 | C26: 100 | D26: 100 | E26: 100 | F26: 100 | G26: 100 | H26: 100 | I26: 100 | J26: 100 | K26: 100 | L26: 100 | M26: 100 | N26: 100 | O26: 100 | P26: 100 | Q26: 100 | R26: 100 | S26: 100 | T26: 100 | U26: 100 | V26: 100 | W26: 100 | X26: 100 | Y26: 100 | Z26: 100 | AA26: 100 | AB26: 100 | AC26: 100 | AD26: 100 | AE26: 100
A27: Es batu | B27: 0.25 | C27: 0.25 | D27: 0.25 | E27: 0.25 | F27: 0.25 | G27: 0.25 | H27: 0.25 | I27: 0.25 | J27: 0.25 | K27: 0.25 | L27: 0.25 | M27: 0.25 | N27: 0.25 | O27: 0.25 | P27: 0.25 | Q27: 0.25 | R27: 0.25 | S27: 0.25 | T27: 0.25 | U27: 0.25 | V27: 0.25 | W27: 0.25 | X27: 0.25 | Y27: 0.25 | Z27: 0.25 | AA27: 0.25 | AB27: 0.25 | AC27: 0.25 | AD27: 0.25 | AE27: 0.25
A28: Cup Pet 14 oz | B28: 1 | C28: 1 | D28: 1 | E28: 1 | F28: 1 | G28: 1 | H28: 1 | I28: 1 | J28: 1 | K28: 1 | L28: 1 | M28: 1 | N28: 1 | O28: 1 | P28: 1 | Q28: 1 | R28: 1 | S28: 1 | T28: 1 | U28: 1 | V28: 1 | W28: 1 | X28: 1 | Y28: 1 | Z28: 1 | AA28: 1 | AB28: 1 | AC28: 1 | AD28: 1 | AE28: 1

Sheet Bahan Baku Per Unit
A1: BAHAN BAKU PER UNIT
A2: NO | B2: Item | C2: Resep
A3: 1 | B3: Espresso | C3: Komposisi | D3: Harga | E3: Jumlah | F3: HPP | G3: HJ
B4: Kopi Blended (70+30) | C4: 15 | D4: =VLOOKUP(B4,'Daftar Harga Bahan Baku'!A:B,2,0) -> 182 | E4: =C4*D4 -> 2730 | F4: =SUM(E4:E7) -> 3811.5789
B5: Air | C5: 100 | D5: =VLOOKUP(B5,'Daftar Harga Bahan Baku'!A:B,2,0) -> 0.31578947 | E5: =C5*D5 -> 31.578947
B6: Es batu | C6: 0.25 | D6: =VLOOKUP(B6,'Daftar Harga Bahan Baku'!A:B,2,0) -> 1000 | E6: =C6*D6 -> 250
B7: Cup Pet 14 oz | C7: 1 | D7: =VLOOKUP(B7,'Daftar Harga Bahan Baku'!A:B,2,0) -> 800 | E7: =C7*D7 -> 800
A8: 2 | B8: Americano | C8: Komposisi | D8: Harga | E8: Jumlah | F8: HPP
B9: Kopi Blended (70+30) | C9: 15 | D9: =VLOOKUP(B9,'Daftar Harga Bahan Baku'!A:B,2,0) -> 182 | E9: =C9*D9 -> 2730 | F9: =SUM(E9:E12) -> 3811.5789
B10: Air | C10: 100 | D10: =VLOOKUP(B10,'Daftar Harga Bahan Baku'!A:B,2,0) -> 0.31578947 | E10: =C10*D10 -> 31.578947
B11: Es batu | C11: 0.25 | D11: =VLOOKUP(B11,'Daftar Harga Bahan Baku'!A:B,2,0) -> 1000 | E11: =C11*D11 -> 250
B12: Cup Pet 14 oz | C12: 1 | D12: =VLOOKUP(B12,'Daftar Harga Bahan Baku'!A:B,2,0) -> 800 | E12: =C12*D12 -> 800
A13: 3 | B13: V60 | C13: Komposisi | D13: Harga | E13: Jumlah | F13: HPP
B14: Kopi Natural | C14: 15 | D14: =VLOOKUP(B14,'Daftar Harga Bahan Baku'!A:B,2,0) -> 220 | E14: =C14*D14 -> 3300 | F14: =SUM(E14:E17) -> 4381.5789
B15: Air | C15: 100 | D15: =VLOOKUP(B15,'Daftar Harga Bahan Baku'!A:B,2,0) -> 0.31578947 | E15: =C15*D15 -> 31.578947
B16: Es batu | C16: 0.25 | D16: =VLOOKUP(B16,'Daftar Harga Bahan Baku'!A:B,2,0) -> 1000 | E16: =C16*D16 -> 250
B17: Cup Pet 14 oz | C17: 1 | D17: =VLOOKUP(B17,'Daftar Harga Bahan Baku'!A:B,2,0) -> 800 | E17: =C17*D17 -> 800
A18: 4 | B18: Kopi Lucu | C18: Komposisi | D18: Harga | E18: Jumlah | F18: HPP
B19: Kopi Blended (70+30) | C19: 15 | D19: =VLOOKUP(B19,'Daftar Harga Bahan Baku'!A:B,2,0) -> 182 | E19: =C19*D19 -> 2730 | F19: =SUM(E19:E26) -> 10096.614
B20: Susu SKM | C20: 15 | D20: =VLOOKUP(B20,'Daftar Harga Bahan Baku'!A:B,2,0) -> 22.5 | E20: =C20*D20 -> 337.5
B21: UHT | C21: 180 | D21: =VLOOKUP(B21,'Daftar Harga Bahan Baku'!A:B,2,0) -> 17.44186 | E21: =C21*D21 -> 3139.5349
B22: Creamer | C22: 12 | D22: =VLOOKUP(B22,'Daftar Harga Bahan Baku'!A:B,2,0) -> 84 | E22: =C22*D22 -> 1008
B23: Gula merah | C23: 60 | D23: =VLOOKUP(B23,'Daftar Harga Bahan Baku'!A:B,2,0) -> 30 | E23: =C23*D23 -> 1800
B24: Air | C24: 100 | D24: =VLOOKUP(B24,'Daftar Harga Bahan Baku'!A:B,2,0) -> 0.31578947 | E24: =C24*D24 -> 31.578947
B25: Es batu | C25: 0.25 | D25: =VLOOKUP(B25,'Daftar Harga Bahan Baku'!A:B,2,0) -> 1000 | E25: =C25*D25 -> 250
B26: Cup Pet 14 oz | C26: 1 | D26: =VLOOKUP(B26,'Daftar Harga Bahan Baku'!A:B,2,0) -> 800 | E26: =C26*D26 -> 800
A27: 5 | B27: Kopi Jadoel | C27: Komposisi | D27: Harga | E27: Jumlah | F27: HPP
B28: Kopi Blended (70+30) | C28: 15 | D28: =VLOOKUP(B28,'Daftar Harga Bahan Baku'!A:B,2,0) -> 182 | E28: =C28*D28 -> 2730 | F28: =SUM(E28:E34) -> 7913.765
B29: Susu SKM | C29: 60 | D29: =VLOOKUP(B29,'Daftar Harga Bahan Baku'!A:B,2,0) -> 22.5 | E29: =C29*D29 -> 1350
B30: UHT | C30: 100 | D30: =VLOOKUP(B30,'Daftar Harga Bahan Baku'!A:B,2,0) -> 17.44186 | E30: =C30*D30 -> 1744.186
B31: Creamer | C31: 12 | D31: =VLOOKUP(B31,'Daftar Harga Bahan Baku'!A:B,2,0) -> 84 | E31: =C31*D31 -> 1008
B32: Air | C32: 100 | D32: =VLOOKUP(B32,'Daftar Harga Bahan Baku'!A:B,2,0) -> 0.31578947 | E32: =C32*D32 -> 31.578947
B33: Es batu | C33: 0.25 | D33: =VLOOKUP(B33,'Daftar Harga Bahan Baku'!A:B,2,0) -> 1000 | E33: =C33*D33 -> 250
B34: Cup Pet 14 oz | C34: 1 | D34: =VLOOKUP(B34,'Daftar Harga Bahan Baku'!A:B,2,0) -> 800 | E34: =C34*D34 -> 800
A35: 6 | B35: Sanger | C35: Komposisi | D35: Harga | E35: Jumlah | F35: HPP
B36: Kopi Blended (70+30) | C36: 15 | D36: =VLOOKUP(B36,'Daftar Harga Bahan Baku'!A:B,2,0) -> 182 | E36: =C36*D36 -> 2730 | F36: =SUM(E36:E41) -> 6253.5789
B37: Susu SKM | C37: 60 | D37: =VLOOKUP(B37,'Daftar Harga Bahan Baku'!A:B,2,0) -> 22.5 | E37: =C37*D37 -> 1350
B38: Creamer | C38: 13 | D38: =VLOOKUP(B38,'Daftar Harga Bahan Baku'!A:B,2,0) -> 84 | E38: =C38*D38 -> 1092
B39: Air | C39: 100 | D39: =VLOOKUP(B39,'Daftar Harga Bahan Baku'!A:B,2,0) -> 0.31578947 | E39: =C39*D39 -> 31.578947
B40: Es batu | C40: 0.25 | D40: =VLOOKUP(B40,'Daftar Harga Bahan Baku'!A:B,2,0) -> 1000 | E40: =C40*D40 -> 250
...

Sheet BTKL, FOH, VOH
H1: Biaya TKL
H2: (Jlh jam kerja x tarif upah/jam) - jam/bulan/hari
H3: BTKL/unit biaya tenaga kerja/total penjualan
H4: Gaji Pegawai / Bulan | I4: =4*150000 -> 600000
H5: BTKL | I5: =I4/566 -> 1060.0707
A6: Penyusutan Aset tetap
A8: Aset tetap | C8: Umur Manfaat | D8: Penyusutan/Tahun | E8: Penyusutan/Bulan | H8: Fixed OH : biaya yang jumlahnya relatif tidak berubah meskipun jumlah produksi naik atau turun dalam periode tertentu
A9: Mesin Espresso merk mayaka Premium | B9: 5800000 | C9: 5 | D9: =B9/C9 -> 1160000 | E9: =D9/12 -> 96666.667 | H9: Biaya Listrik/ Bulan | I9: 50000
A10: Meja dan kursi pelanggan | B10: 500000 | C10: 3 | D10: =B10/C10 -> 166666.67 | E10: =D10/12 -> 13888.889 | H10: Biaya Internet / Bulan | I10: 25000
A11: Lemari es bekas glacio | B11: 800000 | C11: 5 | D11: =B11/C11 -> 160000 | E11: =D11/12 -> 13333.333 | H11: Transport /Bulan | I11: 50000
A12: Gelas, stoples, botol, | B12: 500000 | C12: 5 | D12: =B12/C12 -> 100000 | E12: =D12/12 -> 8333.3333 | H12: Sarung Tangan/Bulan | I12: 10000
A13: Container | B13: 150000 | C13: 3 | D13: =B13/C13 -> 50000 | E13: =D13/12 -> 4166.6667 | H13: Penyusutan/Bulan | I13: =E23 -> 426111.11
A14: Box Es kecil | B14: 100000 | C14: 3 | D14: =B14/C14 -> 33333.333 | E14: =D14/12 -> 2777.7778 | H14: Total FOH | I14: =SUM(I9:I13) -> 561111.11
A15: gerobak | B15: 3500000 | C15: 5 | D15: =B15/C15 -> 700000 | E15: =D15/12 -> 58333.333 | H15: Total FOH / Unit | J15: =I14/566 -> 991.36239
A16: Desain interior (Akrilik Menu) | B16: 150000 | C16: 2 | D16: =B16/C16 -> 75000 | E16: =D16/12 -> 6250 | H16: Variabel OH : biaya yang berubah mengikuti volume produksi
A17: rockpresso | B17: 1500000 | C17: 5 | D17: =B17/C17 -> 300000 | E17: =D17/12 -> 25000 | H17: Pembayaran Sewa Bulan Jan | I17: =6000*16 -> 96000
A18: printer | B18: 375000 | C18: 5 | D18: =B18/C18 -> 75000 | E18: =D18/12 -> 6250 | H18: Upah Pengelola | I18: =1729846 -> 1729846
A19: sealer | B19: 700000 | C19: 3 | D19: =B19/C19 -> 233333.33 | E19: =D19/12 -> 19444.444 | H19: VOH/Unit | J19: =SUM(I17:I18)/566 -> 3225.8763
A20: timbangan | B20: 400000 | C20: 2 | D20: =B20/C20 -> 200000 | E20: =D20/12 -> 16666.667 | H20: Total Kos Overhead | J20: =J19+J15 -> 4217.2387
A21: Grinder kopi 2 @ 750.000 | B21: 1500000 | C21: 1 | D21: =B21/C21 -> 1500000 | E21: =D21/12 -> 125000
A22: Lampu 3 biji @120.000 | B22: 360000 | C22: 1 | D22: =B22/C22 -> 360000 | E22: =D22/12 -> 30000
A23: Total | B23: =SUM(B9:B22) -> 16335000 | E23: =SUM(E9:E22) -> 426111.11
A29: Menu | B29: Harga/unit | C29: Penjualan Jan 25 | D29: Alokasi | E29: FOH | F29: VOH | G29: Total OH
A30: Espresso | B30: 8 | C30: 64000 | D30: 0.010251482 | E30: =$I$14*D30 -> 5752.2203 | F30: =$I$17*D30 -> 984.14224 | G30: =E30+F30 -> 6736.3625 | H30: =C30/B30 -> 8000
A31: Americano | B31: 50 | C31: 500000 | D31: 0.0800897 | E31: =$I$14*D31 -> 44939.221 | F31: =$I$17*D31 -> 7688.6112 | G31: =E31+F31 -> 52627.832 | H31: =C31/B31 -> 10000
A32: V60 | B32: 2 | C32: 30000 | D32: 0.004805382 | E32: =$I$14*D32 -> 2696.3532 | F32: =$I$17*D32 -> 461.31667 | G32: =E32+F32 -> 3157.6699 | H32: =C32/B32 -> 15000
A33: Kopi Lucu | B33: 48 | C33: 720000 | D33: 0.11532917 | E33: =$I$14*D33 -> 64712.478 | F33: =$I$17*D33 -> 11071.6 | G33: =E33+F33 -> 75784.078 | H33: =C33/B33 -> 15000
A34: Kopi Jadoel | B34: 41 | C34: 492000 | D34: 0.078808265 | E34: =$I$14*D34 -> 44220.193 | F34: =$I$17*D34 -> 7565.5935 | G34: =E34+F34 -> 51785.787 | H34: =C34/B34 -> 12000
A35: Sanger | B35: 171 | C35: 1710000 | D35: 0.27390678 | E35: =$I$14*D35 -> 153692.14 | F35: =$I$17*D35 -> 26295.05 | G35: =E35+F35 -> 179987.19 | H35: =C35/B35 -> 10000
A36: Latte | B36: 8 | C36: 120000 | D36: 0.019221528 | E36: =$I$14*D36 -> 10785.413 | F36: =$I$17*D36 -> 1845.2667 | G36: =E36+F36 -> 12630.68 | H36: =C36/B36 -> 15000
A37: Kopi Caramel | B37: 2 | C37: 40000 | D37: 0.006407176 | E37: =$I$14*D37 -> 3595.1377 | F37: =$I$17*D37 -> 615.0889 | G37: =E37+F37 -> 4210.2266 | H37: =C37/B37 -> 20000
A38: Kopi Coklat | B38: 3 | C38: 54000 | D38: 0.0086496877 | E38: =$I$14*D38 -> 4853.4358 | F38: =$I$17*D38 -> 830.37001 | G38: =E38+F38 -> 5683.8059 | H38: =C38/B38 -> 18000
A39: Kopi Tiramisu | B39: 1 | C39: 20000 | D39: 0.003203588 | E39: =$I$14*D39 -> 1797.5688 | F39: =$I$17*D39 -> 307.54445 | G39: =E39+F39 -> 2105.1133 | H39: =C39/B39 -> 20000
A40: Matcha Kopi | B40: 1 | C40: 22000 | D40: 0.0035239468 | E40: =$I$14*D40 -> 1977.3257 | F40: =$I$17*D40 -> 338.29889 | G40: =E40+F40 -> 2315.6246 | H40: =C40/B40 -> 22000
A41: Taro | B41: 11 | C41: 132000 | D41: 0.021143681 | E41: =$I$14*D41 -> 11863.954 | F41: =$I$17*D41 -> 2029.7934 | G41: =E41+F41 -> 13893.748 | H41: =C41/B41 -> 12000
... A57: Lychee Tea | B57: 2 | C57: 24000 | D57: 0.0038443056 | E57: =$I$14*D57 -> 2157.0826 | F57: =$I$17*D57 -> 369.05334 | G57: =E57+F57 -> 2526.1359 | H57: =C57/B57 -> 12000
B58: =SUM(B30:B57) -> 566 | C58: =SUM(C30:C57) -> 6243000

Sheet Transaksi Harian
A1: Tanggal | B1: ID | C1: Rincian | D1: Subtotal | E1: Diskon | F1: Total | G1: KODE | H1: Tanggal
A2: 2025-01-06 00:00 | B2: #4605 | C2: Americano:1 | D2: 10000 | E2: 0 | F2: 10000 | G2: AM | H2: =LEFT(A2,10) -> 2025-01-06
A3: 2025-01-06 00:00 | B3: #4603 | C3: Kopi Jadoel:1 | D3: 12000 | E3: 0 | F3: 12000 | G3: KJ | H3: =LEFT(A3,10) -> 2025-01-06
A4: 2025-01-06 00:00 | B4: #4604 | C4: Sanger:1 | D4: 10000 | E4: 0 | F4: 10000 | G4: SR | H4: =LEFT(A4,10) -> 2025-01-06
A5: 2025-01-06 00:00 | B5: #4618 | C5: Sanger:1 | D5: 10000 | E5: 0 | F5: 10000 | G5: SR | H5: =LEFT(A5,10) -> 2025-01-06
A6: 2025-01-07 22:05 | B6: #4619 | C6: Americano Peach:1 | D6: 15000 | E6: 0 | F6: 15000 | G6: AM | H6: =LEFT(A6,10) -> 2025-01-07
A7: 2025-01-07 21:11 | B7: #4614 | C7: Caramel Macciato:1 Lychee Tea:1 | D7: 32000 | E7: 0 | F7: 32000 | G7: CM | H7: =LEFT(A7,10) -> 2025-01-07
A8: 2025-01-07 21:11 | B8: #4614 | C8: Caramel Macciato:1 Lychee Tea:1 | D8: 32000 | E8: 0 | F8: 32000 | G8: LT | H8: =LEFT(A8,10) -> 2025-01-07
A9: 2025-01-07 18:17 | B9: #4601 | C9: Coklat:1 | D9: 15000 | E9: 0 | F9: 15000 | G9: CK | H9: =LEFT(A9,10) -> 2025-01-07
A10: 2025-01-07 20:53 | B10: #4613 | C10: Green tea:1 | D10: 10000 | E10: 0 | F10: 10000 | G10: GT | H10: =LEFT(A10,10) -> 2025-01-07
A11: 2025-01-07 20:52 | B11: #4611 | C11: Green tea:1 Sanger:1 | D11: 20000 | E11: 0 | F11: 20000 | G11: SR | H11: =LEFT(A11,10) -> 2025-01-07
A12: 2025-01-07 20:52 | B12: #4611 | C12: Green tea:1 Sanger:1 | D12: 20000 | E12: 0 | F12: 20000 | G12: GT | H12: =LEFT(A12,10) -> 2025-01-07
A13: 2025-01-07 18:17 | B13: #4602 | C13: Kopi Jadoel:1 | D13: 12000 | E13: 0 | F13: 12000 | G13: KJ | H13: =LEFT(A13,10) -> 2025-01-07
... A518: 2025-01-31 21:29 | B518: #4944 | C518: Thai tea:1 | D518: 10000 | E518: 0 | F518: 10000 | G518: TT | H518: =LEFT(A518,10) -> 2025-01-31
A519: Total | D519: 6445000 | E519: 22000 | F519: 6423000

Sheet Data Penjualan (Cup)
A1: Penjualan Januari 2025
A2: Tanggal | B2: Jumlah Penjualan (Cup)
A3: 2025-01-06 | B3: 4
A4: 2025-01-07 | B4: 21
A5: 2025-01-08 | B5: 24
A6: 2025-01-10 | B6: 29
A7: 2025-01-11 | B7: 34
A8: 2025-01-12 | B8: 39
A9: 2025-01-13 | B9: 35
A10: 2025-01-14 | B10: 26
A11: 2025-01-15 | B11: 18
A12: 2025-01-16 | B12: 1
A13: 2025-01-17 | B13: 27
A14: 2025-01-18 | B14: 18
... A25: 2025-01-31 | B25: 32
A26: Total | B26: =SUM(B3:B25) -> 517

Sheet Data Penjualan (Rupiah)
A1: Menu | B1: Harga/unit | C1: Penjualan Jan 25
A2: Espresso | B2: =VLOOKUP(A2,'[1]Lap. penjualan per Cup 25'!$B$2:$C$33,2,0) -> 8 | C2: 64000 | D2: =C2/B2 -> 8000
A3: Americano | B3: =VLOOKUP(A3,'[1]Lap. penjualan per Cup 25'!$B$2:$C$33,2,0) -> 50 | C3: 500000 | D3: =C3/B3 -> 10000
A4: V60 | B4: =VLOOKUP(A4,'[1]Lap. penjualan per Cup 25'!$B$2:$C$33,2,0) -> 2 | C4: 30000 | D4: =C4/B4 -> 15000
A5: Kopi Lucu | B5: =VLOOKUP(A5,'[1]Lap. penjualan per Cup 25'!$B$2:$C$33,2,0) -> 48 | C5: 720000 | D5: =C5/B5 -> 15000
A6: Kopi Jadoel | B6: =VLOOKUP(A6,'[1]Lap. penjualan per Cup 25'!$B$2:$C$33,2,0) -> 41 | C6: 492000 | D6: =C6/B6 -> 12000
A7: Sanger | B7: =VLOOKUP(A7,'[1]Lap. penjualan per Cup 25'!$B$2:$C$33,2,0) -> 171 | C7: 1710000 | D7: =C7/B7 -> 10000
A8: Latte | B8: =VLOOKUP(A8,'[1]Lap. penjualan per Cup 25'!$B$2:$C$33,2,0) -> 8 | C8: 120000 | D8: =C8/B8 -> 15000
A9: Kopi Caramel | B9: =VLOOKUP(A9,'[1]Lap. penjualan per Cup 25'!$B$2:$C$33,2,0) -> 2 | C9: 40000 | D9: =C9/B9 -> 20000
A10: Kopi Coklat | B10: =VLOOKUP(A10,'[1]Lap. penjualan per Cup 25'!$B$2:$C$33,2,0) -> 3 | C10: 54000 | D10: =C10/B10 -> 18000
A11: Kopi Tiramisu | B11: =VLOOKUP(A11,'[1]Lap. penjualan per Cup 25'!$B$2:$C$33,2,0) -> 1 | C11: 20000 | D11: =C11/B11 -> 20000
A12: Matcha Kopi | B12: =VLOOKUP(A12,'[1]Lap. penjualan per Cup 25'!$B$2:$C$33,2,0) -> 1 | C12: 22000 | D12: =C12/B12 -> 22000
A13: Taro | B13: =VLOOKUP(A13,'[1]Lap. penjualan per Cup 25'!$B$2:$C$33,2,0) -> 11 | C13: 132000 | D13: =C13/B13 -> 12000
A14: Red Velvet | B14: =VLOOKUP(A14,'[1]Lap. penjualan per Cup 25'!$B$2:$C$33,2,0) -> 4 | C14: 48000 | D14: =C14/B14 -> 12000
A15: Matcha | B15: 14 | C15: 210000 | D15: =C15/B15 -> 15000
A16: Green Tea | B16: =VLOOKUP(A16,'[1]Lap. penjualan per Cup 25'!$B$2:$C$33,2,0) -> 52 | C16: 520000 | D16: =C16/B16 -> 10000
A17: Kopi Green Tea | B17: =VLOOKUP(A17,'[1]Lap. penjualan per Cup 25'!$B$2:$C$33,2,0) -> 1 | C17: 16000 | D17: =C17/B17 -> 16000
A18: Thai Tea | B18: =VLOOKUP(A18,'[1]Lap. penjualan per Cup 25'!$B$2:$C$33,2,0) -> 33 | C18: 330000 | D18: =C18/B18 -> 10000
A19: Lemon Tea | B19: =VLOOKUP(A19,'[1]Lap. penjualan per Cup 25'!$B$2:$C$33,2,0) -> 22 | C19: 176000 | D19: =C19/B19 -> 8000
A20: Teh Manis | B20: 18 | C20: 90000 | D20: =C20/B20 -> 5000
A21: Tea Tong | B21: 4 | C21: 12000 | D21: =C21/B21 -> 3000
A22: Coklat | B22: =VLOOKUP(A22,'[1]Lap. penjualan per Cup 25'!$B$2:$C$33,2,0) -> 25 | C22: 375000 | D22: =C22/B22 -> 15000
A23: Hazelnut | B23: =VLOOKUP(A23,'[1]Lap. penjualan per Cup 25'!$B$2:$C$33,2,0) -> 5 | C23: 75000 | D23: =C23/B23 -> 15000
A24: Green Lime | B24: =VLOOKUP(A24,'[1]Lap. penjualan per Cup 25'!$B$2:$C$33,2,0) -> 1 | C24: 8000 | D24: =C24/B24 -> 8000
A25: Americano Peach | B25: 12 | C25: 180000 | D25: =C25/B25 -> 15000
A26: Caramel Macciato | B26: 7 | C26: 140000 | D26: =C26/B26 -> 20000
A27: Green Tea tanpa susu | B27: 15 | C27: 75000 | D27: =C27/B27 -> 5000
A28: Peace Tea | B28: 5 | C28: 60000 | D28: =C28/B28 -> 12000
A29: Lychee Tea | B29: 2 | C29: 24000 | D29: =C29/B29 -> 12000
B30: =SUM(B2:B29) -> 566

Sheet Pengeluaran Bulan Jan
A1: Tanggal | B1: Uraian | C1: No Akun | D1: Jumlah
A2: 6 | B2: Biaya tempat 1 hari @6.000 | C2: 418 | D2: 6000
A3: 7 | B3: Biaya tempat 1 hari @6.000 | C3: 418 | D3: 6000
A4: 8 | B4: Biaya tempat 1 hari @6.000 | C4: 418 | D4: 6000
A5: 9 | B5: Pembelian internet | C5: 412 | D5: 10099
A6: 10 | B6: Biaya tempat 1 hari @6.000 | C6: 418 | D6: 6000
A7: 12 | B7: Biaya tempat 2 hari @6.000 | C7: 418 | D7: 12000
A8: 13 | B8: Pembelian bensi becak 2 liter @12.000 | C8: 411 | D8: 24000
A9: 13 | B9: Pembelian sarung tangan plastik 1 @10.000 | C9: 414 | D9: 10000
A10: 13 | B10: Biaya tempat 1 hari @6.000 | C10: 418 | D10: 6000
A11: 14 | B11: Biaya tempat 1 hari @6.000 | C11: 418 | D11: 6000
A12: 15 | B12: Biaya tempat 1 hari @6.000 | C12: 418 | D12: 6000
A13: 17 | B13: Biaya tempat 1 hari @6.000 | C13: 418 | D13: 6000
A14: 17 | B14: Biaya Administrasi bank | C14: 420
A15: 18 | B15: Biaya tempat 2 hari @6.000 | C15: 418 | D15: 12000
A16: 18 | B16: Transport pembelian creamer | C16: 411 | D16: 25000
A17: 22 | B17: Biaya tempat 4 hari @6.000 | C17: 418 | D17: 24000
A18: 25 | B18: Biaya tempat 2 hari @6.000 | C18: 418 | D18: 12000
A19: 31 | B19: Listrik Sakota | C19: 412 | D19: 50000
A20: 31 | B20: Upah pengelola | C20: 416 | D20: 1729846.2
F21: litrik | G21: 50
F22: paket | G22: 25
F23: upah pengelola
F24: biaya tempat | G24: 6
